BEGIN:VCALENDAR
VERSION:2.0
PRODID:-//hacksw/handcal//NONSGML v1.0//EN
CALSCALE:GREGORIAN
BEGIN:VEVENT
LOCATION:83350 Ramatuelle
DESCRIPTION:https://www.golfe-saint-tropez-information.com/en/animation/entertainment-recreation/ramatuelle/summer-festival-7779367
DTSTART:20260721T000000Z
DTEND:20260721T000000Z
SUMMARY:Summer Festival
URL;VALUE=URI:https://www.golfe-saint-tropez-information.com/en/animation/entertainment-recreation/ramatuelle/summer-festival-7779367
DTSTAMP:20260423T001957Z
UID:69e965adee7ba
END:VEVENT
END:VCALENDAR