BEGIN:VCALENDAR
VERSION:2.0
PRODID:-//hacksw/handcal//NONSGML v1.0//EN
CALSCALE:GREGORIAN
BEGIN:VEVENT
LOCATION:Rampe des Sarrazins\, Place de la Mairie\, 83680 La Garde-Freinet
DESCRIPTION:https://www.golfe-saint-tropez-information.com/fr/animation/culture/la-garde-freinet/conference-l-histoire-de-la-fraternite-catalo-provencale-du-drapeau-a-la-coupo-santo-7779307
DTSTART:20260523T000000Z
DTEND:20260523T000000Z
SUMMARY:Conférence "L'histoire de la fraternité catalo-provençale du drapeau à la Coupo Santo"
URL;VALUE=URI:https://www.golfe-saint-tropez-information.com/fr/animation/culture/la-garde-freinet/conference-l-histoire-de-la-fraternite-catalo-provencale-du-drapeau-a-la-coupo-santo-7779307
DTSTAMP:20260422T161628Z
UID:69e8f45c5b3df
END:VEVENT
END:VCALENDAR