BEGIN:VCALENDAR
VERSION:2.0
PRODID:-//hacksw/handcal//NONSGML v1.0//EN
CALSCALE:GREGORIAN
BEGIN:VEVENT
LOCATION:Rampe des Sarrazins\, Place de la Mairie\, 83680 La Garde-Freinet
DESCRIPTION:https://www.golfe-saint-tropez-information.com/en/animation/cultural/la-garde-freinet/conference-the-history-of-the-catalan-provencal-fraternity-from-the-flag-to-the-coupo-santo-7779307
DTSTART:20260523T000000Z
DTEND:20260523T000000Z
SUMMARY:Conference "The history of the Catalan-Provençal fraternity from the flag to the Coupo Santo".
URL;VALUE=URI:https://www.golfe-saint-tropez-information.com/en/animation/cultural/la-garde-freinet/conference-the-history-of-the-catalan-provencal-fraternity-from-the-flag-to-the-coupo-santo-7779307
DTSTAMP:20260422T173853Z
UID:69e907adbe295
END:VEVENT
END:VCALENDAR