BEGIN:VCALENDAR
VERSION:2.0
PRODID:-//hacksw/handcal//NONSGML v1.0//EN
CALSCALE:GREGORIAN
BEGIN:VEVENT
LOCATION:83350 Ramatuelle
DESCRIPTION:https://www.golfe-saint-tropez-information.com/fr/animation/culture/ramatuelle/musique-au-village-la-triade-7779183
DTSTART:20260730T000000Z
DTEND:20260730T000000Z
SUMMARY:Musique au village - La Triade
URL;VALUE=URI:https://www.golfe-saint-tropez-information.com/fr/animation/culture/ramatuelle/musique-au-village-la-triade-7779183
DTSTAMP:20260422T230852Z
UID:69e955047774f
END:VEVENT
END:VCALENDAR