BEGIN:VCALENDAR
VERSION:2.0
PRODID:-//hacksw/handcal//NONSGML v1.0//EN
CALSCALE:GREGORIAN
BEGIN:VEVENT
LOCATION:83350 Ramatuelle
DESCRIPTION:https://www.golfe-saint-tropez-information.com/en/animation/cultural/ramatuelle/musique-au-village-superfly-7779156
DTSTART:20260723T000000Z
DTEND:20260723T000000Z
SUMMARY:Musique au village - Superfly
URL;VALUE=URI:https://www.golfe-saint-tropez-information.com/en/animation/cultural/ramatuelle/musique-au-village-superfly-7779156
DTSTAMP:20260423T001954Z
UID:69e965aa8360f
END:VEVENT
END:VCALENDAR