BEGIN:VCALENDAR
VERSION:2.0
PRODID:-//hacksw/handcal//NONSGML v1.0//EN
CALSCALE:GREGORIAN
BEGIN:VEVENT
LOCATION:83350 Ramatuelle
DESCRIPTION:https://www.golfe-saint-tropez-information.com/en/animation/cultural/ramatuelle/musique-au-village-up-live-band-7779127
DTSTART:20260716T000000Z
DTEND:20260716T000000Z
SUMMARY:Musique au village - UP Live Band
URL;VALUE=URI:https://www.golfe-saint-tropez-information.com/en/animation/cultural/ramatuelle/musique-au-village-up-live-band-7779127
DTSTAMP:20260422T230848Z
UID:69e95500a78e8
END:VEVENT
END:VCALENDAR