BEGIN:VCALENDAR
VERSION:2.0
PRODID:-//hacksw/handcal//NONSGML v1.0//EN
CALSCALE:GREGORIAN
BEGIN:VEVENT
LOCATION:83350 Ramatuelle
DESCRIPTION:https://www.golfe-saint-tropez-information.com/fr/animation/culture/ramatuelle/musique-au-village-chansons-douces-7779092
DTSTART:20260709T000000Z
DTEND:20260709T000000Z
SUMMARY:Musique au village - Chansons Douces
URL;VALUE=URI:https://www.golfe-saint-tropez-information.com/fr/animation/culture/ramatuelle/musique-au-village-chansons-douces-7779092
DTSTAMP:20260425T215620Z
UID:69ed38849a1b3
END:VEVENT
END:VCALENDAR