BEGIN:VCALENDAR
VERSION:2.0
PRODID:-//hacksw/handcal//NONSGML v1.0//EN
CALSCALE:GREGORIAN
BEGIN:VEVENT
LOCATION:83350 Ramatuelle
DESCRIPTION:https://www.golfe-saint-tropez-information.com/en/animation/cultural/ramatuelle/musique-au-village-sweet-songs-7779092
DTSTART:20260709T000000Z
DTEND:20260709T000000Z
SUMMARY:Musique au village - Sweet Songs
URL;VALUE=URI:https://www.golfe-saint-tropez-information.com/en/animation/cultural/ramatuelle/musique-au-village-sweet-songs-7779092
DTSTAMP:20260425T215620Z
UID:69ed38842c0b9
END:VEVENT
END:VCALENDAR