BEGIN:VCALENDAR
VERSION:2.0
PRODID:-//hacksw/handcal//NONSGML v1.0//EN
CALSCALE:GREGORIAN
BEGIN:VEVENT
LOCATION:83350 Ramatuelle
DESCRIPTION:https://www.golfe-saint-tropez-information.com/en/animation/cultural/ramatuelle/musique-au-village-paradigm-7779067
DTSTART:20260702T000000Z
DTEND:20260702T000000Z
SUMMARY:Musique au village - Paradigm
URL;VALUE=URI:https://www.golfe-saint-tropez-information.com/en/animation/cultural/ramatuelle/musique-au-village-paradigm-7779067
DTSTAMP:20260422T215035Z
UID:69e942abf0ad8
END:VEVENT
END:VCALENDAR