BEGIN:VCALENDAR
VERSION:2.0
PRODID:-//hacksw/handcal//NONSGML v1.0//EN
CALSCALE:GREGORIAN
BEGIN:VEVENT
LOCATION:Parking de l'Escalet\,\, 83350 Ramatuelle
DESCRIPTION:https://www.golfe-saint-tropez-information.com/en/animation/nature-and-relaxation/ramatuelle/balade-a-ramatuelle-faune-et-flore-d-ici-et-d-ailleurs-7778338
DTSTART:20260905T000000Z
DTEND:20260905T000000Z
SUMMARY:Balade à Ramatuelle - Faune et flore d'ici... et d'ailleurs
URL;VALUE=URI:https://www.golfe-saint-tropez-information.com/en/animation/nature-and-relaxation/ramatuelle/balade-a-ramatuelle-faune-et-flore-d-ici-et-d-ailleurs-7778338
DTSTAMP:20260423T051807Z
UID:69e9ab8f0b417
END:VEVENT
END:VCALENDAR