BEGIN:VCALENDAR
VERSION:2.0
PRODID:-//hacksw/handcal//NONSGML v1.0//EN
CALSCALE:GREGORIAN
BEGIN:VEVENT
LOCATION:Départ sur le Port\, Quai de L’Epi\, Quai Gabriel Péri\, Quai Suffren\, Quai Jaurès Parcours en boucle aller et retour\, 83990 Saint-Tropez
DESCRIPTION:https://www.golfe-saint-tropez-information.com/fr/animation/distractions-et-loisirs/saint-tropez/spectacle-de-rue-abysses-l-odyssee-des-mers-par-de-la-cie-remue-menage-7777913
DTSTART:20261230T000000Z
DTEND:20261230T000000Z
SUMMARY:Spectacle de rue « ABYSSES\, l’odyssée des mers » par de la Cie Remue-Ménage
URL;VALUE=URI:https://www.golfe-saint-tropez-information.com/fr/animation/distractions-et-loisirs/saint-tropez/spectacle-de-rue-abysses-l-odyssee-des-mers-par-de-la-cie-remue-menage-7777913
DTSTAMP:20260425T215616Z
UID:69ed38808bb75
END:VEVENT
END:VCALENDAR