BEGIN:VCALENDAR
VERSION:2.0
PRODID:-//hacksw/handcal//NONSGML v1.0//EN
CALSCALE:GREGORIAN
BEGIN:VEVENT
LOCATION:Départ sur le Port\, Quai de L’Epi\, Quai Gabriel Péri\, Quai Suffren\, Quai Jaurès Parcours en boucle aller et retour\, 83990 Saint-Tropez
DESCRIPTION:https://www.golfe-saint-tropez-information.com/en/animation/entertainment-recreation/saint-tropez/street-show-abysses-l-odyssee-des-mers-by-cie-remue-menage-7777913
DTSTART:20261230T000000Z
DTEND:20261230T000000Z
SUMMARY:Street show "ABYSSES\, l'odyssée des mers" by Cie Remue-Ménage
URL;VALUE=URI:https://www.golfe-saint-tropez-information.com/en/animation/entertainment-recreation/saint-tropez/street-show-abysses-l-odyssee-des-mers-by-cie-remue-menage-7777913
DTSTAMP:20260425T233338Z
UID:69ed4f52b47d9
END:VEVENT
END:VCALENDAR