BEGIN:VCALENDAR
VERSION:2.0
PRODID:-//hacksw/handcal//NONSGML v1.0//EN
CALSCALE:GREGORIAN
BEGIN:VEVENT
LOCATION:Rampe des Sarrazins\, Place de la Mairie\, 83680 La Garde-Freinet
DESCRIPTION:https://www.golfe-saint-tropez-information.com/fr/animation/culture/la-garde-freinet/projection-opera-cavalleria-rusticana-de-mascagni-7777345
DTSTART:20260530T000000Z
DTEND:20260530T000000Z
SUMMARY:Projection Opéra "Cavalleria Rusticana" de Mascagni
URL;VALUE=URI:https://www.golfe-saint-tropez-information.com/fr/animation/culture/la-garde-freinet/projection-opera-cavalleria-rusticana-de-mascagni-7777345
DTSTAMP:20260422T173259Z
UID:69e9064b9afa0
END:VEVENT
END:VCALENDAR