BEGIN:VCALENDAR
VERSION:2.0
PRODID:-//hacksw/handcal//NONSGML v1.0//EN
CALSCALE:GREGORIAN
BEGIN:VEVENT
LOCATION:Rampe des Sarrazins\, Place de la Mairie\, 83680 La Garde-Freinet
DESCRIPTION:https://www.golfe-saint-tropez-information.com/fr/animation/culture/la-garde-freinet/cine-debat-don-t-look-up-adam-mckay-7777333
DTSTART:20260513T000000Z
DTEND:20260513T000000Z
SUMMARY:Ciné-Débat "Don't look up - Adam McKay"
URL;VALUE=URI:https://www.golfe-saint-tropez-information.com/fr/animation/culture/la-garde-freinet/cine-debat-don-t-look-up-adam-mckay-7777333
DTSTAMP:20260422T161627Z
UID:69e8f45be9314
END:VEVENT
END:VCALENDAR