BEGIN:VCALENDAR
VERSION:2.0
PRODID:-//hacksw/handcal//NONSGML v1.0//EN
CALSCALE:GREGORIAN
BEGIN:VEVENT
LOCATION:21 place Louis Blanc\, 83120 Sainte-Maxime
DESCRIPTION:https://www.golfe-saint-tropez-information.com/en/animation/traditions-and-folklore/sainte-maxime/immersion-belle-epoque-7773862
DTSTART:20260519T000000Z
DTEND:20260519T000000Z
SUMMARY:Immersion Belle Époque
URL;VALUE=URI:https://www.golfe-saint-tropez-information.com/en/animation/traditions-and-folklore/sainte-maxime/immersion-belle-epoque-7773862
DTSTAMP:20260422T185439Z
UID:69e9196f5c4da
END:VEVENT
END:VCALENDAR