BEGIN:VCALENDAR
VERSION:2.0
PRODID:-//hacksw/handcal//NONSGML v1.0//EN
CALSCALE:GREGORIAN
BEGIN:VEVENT
LOCATION:16\, boulevard Vasserot\, 83990 Saint-Tropez
DESCRIPTION:https://www.golfe-saint-tropez-information.com/fr/animation/manifestations-commerciales/saint-tropez/salon-bourse-brocante-du-souvenir-historique-7771975
DTSTART:20260426T000000Z
DTEND:20260426T000000Z
SUMMARY:Salon – Bourse – Brocante du souvenir historique
URL;VALUE=URI:https://www.golfe-saint-tropez-information.com/fr/animation/manifestations-commerciales/saint-tropez/salon-bourse-brocante-du-souvenir-historique-7771975
DTSTAMP:20260422T132439Z
UID:69e8cc1772ce4
END:VEVENT
END:VCALENDAR