BEGIN:VCALENDAR
VERSION:2.0
PRODID:-//hacksw/handcal//NONSGML v1.0//EN
CALSCALE:GREGORIAN
BEGIN:VEVENT
LOCATION:107 route du Plan de la Tour\, Carré Léon Gaumont\, 83120 Sainte-Maxime
DESCRIPTION:https://www.golfe-saint-tropez-information.com/en/animation/cultural/sainte-maxime/meet-and-greet-and-book-signing-jean-bastide-7765171
DTSTART:20260430T000000Z
DTEND:20260430T000000Z
SUMMARY:Meet and greet and book signing - Jean Bastide
URL;VALUE=URI:https://www.golfe-saint-tropez-information.com/en/animation/cultural/sainte-maxime/meet-and-greet-and-book-signing-jean-bastide-7765171
DTSTAMP:20260425T155839Z
UID:69ece4af94213
END:VEVENT
END:VCALENDAR