BEGIN:VCALENDAR
VERSION:2.0
PRODID:-//hacksw/handcal//NONSGML v1.0//EN
CALSCALE:GREGORIAN
BEGIN:VEVENT
LOCATION:16\, boulevard Vasserot\, 83990 Saint-Tropez
DESCRIPTION:https://www.golfe-saint-tropez-information.com/fr/animation/distractions-et-loisirs/saint-tropez/soiree-dansante-je-t-aime-moi-non-plus-7760171
DTSTART:20261121T000000Z
DTEND:20261121T000000Z
SUMMARY:Soirée dansante “Je t’aime. Moi non plus”
URL;VALUE=URI:https://www.golfe-saint-tropez-information.com/fr/animation/distractions-et-loisirs/saint-tropez/soiree-dansante-je-t-aime-moi-non-plus-7760171
DTSTAMP:20260425T215615Z
UID:69ed387fa13fb
END:VEVENT
END:VCALENDAR