BEGIN:VCALENDAR
VERSION:2.0
PRODID:-//hacksw/handcal//NONSGML v1.0//EN
CALSCALE:GREGORIAN
BEGIN:VEVENT
LOCATION:16\, boulevard Vasserot\, 83990 Saint-Tropez
DESCRIPTION:https://www.golfe-saint-tropez-information.com/en/animation/entertainment-recreation/saint-tropez/je-t-aime-i-love-you-7760171
DTSTART:20261121T000000Z
DTEND:20261121T000000Z
SUMMARY:Je t'aime. I love you.
URL;VALUE=URI:https://www.golfe-saint-tropez-information.com/en/animation/entertainment-recreation/saint-tropez/je-t-aime-i-love-you-7760171
DTSTAMP:20260425T232639Z
UID:69ed4dafc5a5b
END:VEVENT
END:VCALENDAR