BEGIN:VCALENDAR
VERSION:2.0
PRODID:-//hacksw/handcal//NONSGML v1.0//EN
CALSCALE:GREGORIAN
BEGIN:VEVENT
LOCATION:Boulevard de Provence\, 83120 Sainte-Maxime
DESCRIPTION:https://www.golfe-saint-tropez-information.com/fr/animation/culture/sainte-maxime/les-nuits-de-la-nartelle-concert-de-cloture-opera-sous-les-etoiles-giuseppe-verdi-la-traviata-7740299
DTSTART:20260806T000000Z
DTEND:20260806T000000Z
SUMMARY:Les Nuits de la Nartelle : Concert de clôture – Opéra sous les Étoiles - Giuseppe Verdi – La Traviata
URL;VALUE=URI:https://www.golfe-saint-tropez-information.com/fr/animation/culture/sainte-maxime/les-nuits-de-la-nartelle-concert-de-cloture-opera-sous-les-etoiles-giuseppe-verdi-la-traviata-7740299
DTSTAMP:20260425T155819Z
UID:69ece49b575c2
END:VEVENT
END:VCALENDAR