BEGIN:VCALENDAR
VERSION:2.0
PRODID:-//hacksw/handcal//NONSGML v1.0//EN
CALSCALE:GREGORIAN
BEGIN:VEVENT
LOCATION:Boulevard de Provence\, 83120 Sainte-Maxime
DESCRIPTION:https://www.golfe-saint-tropez-information.com/fr/animation/culture/sainte-maxime/les-nuits-de-la-nartelle-trio-flute-violoncelle-piano-avec-louise-gagnac-flute-noe-drdak-violoncelle-slava-guerchovitch-piano-7740153
DTSTART:20260730T000000Z
DTEND:20260730T000000Z
SUMMARY:Les Nuits de la Nartelle :Trio flûte\, violoncelle & piano avec Louise Gagnac (flûte) – Noé Drdak (violoncelle) – Slava Guerchovitch (piano)
URL;VALUE=URI:https://www.golfe-saint-tropez-information.com/fr/animation/culture/sainte-maxime/les-nuits-de-la-nartelle-trio-flute-violoncelle-piano-avec-louise-gagnac-flute-noe-drdak-violoncelle-slava-guerchovitch-piano-7740153
DTSTAMP:20260425T215615Z
UID:69ed387f4f3d8
END:VEVENT
END:VCALENDAR