BEGIN:VCALENDAR
VERSION:2.0
PRODID:-//hacksw/handcal//NONSGML v1.0//EN
CALSCALE:GREGORIAN
BEGIN:VEVENT
LOCATION:Boulevard de Provence\, 83120 Sainte-Maxime
DESCRIPTION:https://www.golfe-saint-tropez-information.com/fr/animation/culture/sainte-maxime/les-nuits-de-la-nartelle-marc-andre-gabriel-bianco-contrebasse-guitare-7740105
DTSTART:20260723T000000Z
DTEND:20260723T000000Z
SUMMARY:Les Nuits de la Nartelle : Marc André & Gabriel Bianco - Contrebasse & Guitare
URL;VALUE=URI:https://www.golfe-saint-tropez-information.com/fr/animation/culture/sainte-maxime/les-nuits-de-la-nartelle-marc-andre-gabriel-bianco-contrebasse-guitare-7740105
DTSTAMP:20260425T155844Z
UID:69ece4b496e8d
END:VEVENT
END:VCALENDAR