BEGIN:VCALENDAR
VERSION:2.0
PRODID:-//hacksw/handcal//NONSGML v1.0//EN
CALSCALE:GREGORIAN
BEGIN:VEVENT
LOCATION:Boulevard de Provence\, 83120 Sainte-Maxime
DESCRIPTION:https://www.golfe-saint-tropez-information.com/en/animation/cultural/sainte-maxime/les-nuits-de-la-nartelle-une-soiree-chez-les-schumann-dana-ciorcarle-julie-depardieu-et-delphine-haidan-7740019
DTSTART:20260716T000000Z
DTEND:20260716T000000Z
SUMMARY:Les Nuits de la Nartelle : « Une soirée chez les Schumann » - Dana Ciorcarle\, Julie Depardieu et Delphine Haidan
URL;VALUE=URI:https://www.golfe-saint-tropez-information.com/en/animation/cultural/sainte-maxime/les-nuits-de-la-nartelle-une-soiree-chez-les-schumann-dana-ciorcarle-julie-depardieu-et-delphine-haidan-7740019
DTSTAMP:20260425T215612Z
UID:69ed387ca0051
END:VEVENT
END:VCALENDAR