BEGIN:VCALENDAR
VERSION:2.0
PRODID:-//hacksw/handcal//NONSGML v1.0//EN
CALSCALE:GREGORIAN
BEGIN:VEVENT
LOCATION:Boulevard de Provence\, 83120 Sainte-Maxime
DESCRIPTION:https://www.golfe-saint-tropez-information.com/fr/animation/culture/sainte-maxime/les-nuits-de-la-nartelle-la-vibration-de-l-amour-aurelie-entringer-et-sebastien-mazoyer-7736967
DTSTART:20260709T000000Z
DTEND:20260709T000000Z
SUMMARY:Les Nuits de la Nartelle : « La vibration de l’amour » Aurélie Entringer et Sébastien Mazoyer
URL;VALUE=URI:https://www.golfe-saint-tropez-information.com/fr/animation/culture/sainte-maxime/les-nuits-de-la-nartelle-la-vibration-de-l-amour-aurelie-entringer-et-sebastien-mazoyer-7736967
DTSTAMP:20260425T155845Z
UID:69ece4b51b9e0
END:VEVENT
END:VCALENDAR