BEGIN:VCALENDAR
VERSION:2.0
PRODID:-//hacksw/handcal//NONSGML v1.0//EN
CALSCALE:GREGORIAN
BEGIN:VEVENT
LOCATION:Odyssée 80\, 83420 La Croix-Valmer
DESCRIPTION:https://www.golfe-saint-tropez-information.com/fr/animation/distractions-et-loisirs/la-croix-valmer/concert-ensemble-musical-de-la-croix-valmer-7705294
DTSTART:20260628T000000Z
DTEND:20260628T000000Z
SUMMARY:Concert : Ensemble musical de La Croix Valmer
URL;VALUE=URI:https://www.golfe-saint-tropez-information.com/fr/animation/distractions-et-loisirs/la-croix-valmer/concert-ensemble-musical-de-la-croix-valmer-7705294
DTSTAMP:20260425T185359Z
UID:69ed0dc7e7171
END:VEVENT
END:VCALENDAR