BEGIN:VCALENDAR
VERSION:2.0
PRODID:-//hacksw/handcal//NONSGML v1.0//EN
CALSCALE:GREGORIAN
BEGIN:VEVENT
LOCATION:Boulevard du Maréchal Alphonse Juin\, 83420 La Croix-Valmer
DESCRIPTION:https://www.golfe-saint-tropez-information.com/fr/animation/distractions-et-loisirs/la-croix-valmer/concert-koninklijke-biltse-harmonie-7705274
DTSTART:20260628T000000Z
DTEND:20260628T000000Z
SUMMARY:Concert : Koninklijke Biltse Harmonie
URL;VALUE=URI:https://www.golfe-saint-tropez-information.com/fr/animation/distractions-et-loisirs/la-croix-valmer/concert-koninklijke-biltse-harmonie-7705274
DTSTAMP:20260425T203722Z
UID:69ed2602bab91
END:VEVENT
END:VCALENDAR