BEGIN:VCALENDAR
VERSION:2.0
PRODID:-//hacksw/handcal//NONSGML v1.0//EN
CALSCALE:GREGORIAN
BEGIN:VEVENT
LOCATION:Odyssée 80\, 83420 La Croix-Valmer
DESCRIPTION:https://www.golfe-saint-tropez-information.com/en/animation/entertainment-recreation/la-croix-valmer/concert-west-virginia-university-wind-symphony-7705263
DTSTART:20260628T000000Z
DTEND:20260628T000000Z
SUMMARY:Concert : West Virginia University Wind Symphony
URL;VALUE=URI:https://www.golfe-saint-tropez-information.com/en/animation/entertainment-recreation/la-croix-valmer/concert-west-virginia-university-wind-symphony-7705263
DTSTAMP:20260425T221604Z
UID:69ed3d24e12f9
END:VEVENT
END:VCALENDAR