BEGIN:VCALENDAR
VERSION:2.0
PRODID:-//hacksw/handcal//NONSGML v1.0//EN
CALSCALE:GREGORIAN
BEGIN:VEVENT
LOCATION:Odyssée 80\, 83420 La Croix-Valmer
DESCRIPTION:https://www.golfe-saint-tropez-information.com/fr/animation/distractions-et-loisirs/la-croix-valmer/concert-orchestre-symphonique-conservatoire-de-prague-7705249
DTSTART:20260628T000000Z
DTEND:20260628T000000Z
SUMMARY:Concert : Orchestre Symphonique Conservatoire de Prague
URL;VALUE=URI:https://www.golfe-saint-tropez-information.com/fr/animation/distractions-et-loisirs/la-croix-valmer/concert-orchestre-symphonique-conservatoire-de-prague-7705249
DTSTAMP:20260422T202657Z
UID:69e92f114ae01
END:VEVENT
END:VCALENDAR