BEGIN:VCALENDAR
VERSION:2.0
PRODID:-//hacksw/handcal//NONSGML v1.0//EN
CALSCALE:GREGORIAN
BEGIN:VEVENT
LOCATION:Odyssée 80\, 83420 La Croix-Valmer
DESCRIPTION:https://www.golfe-saint-tropez-information.com/en/animation/entertainment-recreation/la-croix-valmer/concert-conservatoire-symphonic-orchestra-prague-7705249
DTSTART:20260628T000000Z
DTEND:20260628T000000Z
SUMMARY:Concert : Conservatoire Symphonic Orchestra\, Prague
URL;VALUE=URI:https://www.golfe-saint-tropez-information.com/en/animation/entertainment-recreation/la-croix-valmer/concert-conservatoire-symphonic-orchestra-prague-7705249
DTSTAMP:20260422T215627Z
UID:69e9440b4b949
END:VEVENT
END:VCALENDAR