BEGIN:VCALENDAR
VERSION:2.0
PRODID:-//hacksw/handcal//NONSGML v1.0//EN
CALSCALE:GREGORIAN
BEGIN:VEVENT
LOCATION:Odyssée 80\, 83420 La Croix-Valmer
DESCRIPTION:https://www.golfe-saint-tropez-information.com/en/animation/entertainment-recreation/la-croix-valmer/concert-koninklijke-biltse-harmonie-7705184
DTSTART:20260627T000000Z
DTEND:20260627T000000Z
SUMMARY:Concert : Koninklijke Biltse Harmonie
URL;VALUE=URI:https://www.golfe-saint-tropez-information.com/en/animation/entertainment-recreation/la-croix-valmer/concert-koninklijke-biltse-harmonie-7705184
DTSTAMP:20260425T203819Z
UID:69ed263bdaa2f
END:VEVENT
END:VCALENDAR