BEGIN:VCALENDAR
VERSION:2.0
PRODID:-//hacksw/handcal//NONSGML v1.0//EN
CALSCALE:GREGORIAN
BEGIN:VEVENT
LOCATION:Boulevard du Maréchal Alphonse Juin\, 83420 La Croix-Valmer
DESCRIPTION:https://www.golfe-saint-tropez-information.com/en/animation/entertainment-recreation/la-croix-valmer/concert-west-virginia-university-wind-symphony-7705162
DTSTART:20260627T000000Z
DTEND:20260627T000000Z
SUMMARY:Concert : West Virginia University Wind Symphony
URL;VALUE=URI:https://www.golfe-saint-tropez-information.com/en/animation/entertainment-recreation/la-croix-valmer/concert-west-virginia-university-wind-symphony-7705162
DTSTAMP:20260422T215739Z
UID:69e94453e9069
END:VEVENT
END:VCALENDAR