BEGIN:VCALENDAR
VERSION:2.0
PRODID:-//hacksw/handcal//NONSGML v1.0//EN
CALSCALE:GREGORIAN
BEGIN:VEVENT
LOCATION:Boulevard du Maréchal Alphonse Juin\, 83420 La Croix-Valmer
DESCRIPTION:https://www.golfe-saint-tropez-information.com/en/animation/entertainment-recreation/la-croix-valmer/concert-conservatoire-symphonic-orchestra-7705129
DTSTART:20260627T000000Z
DTEND:20260627T000000Z
SUMMARY:Concert : Conservatoire Symphonic Orchestra\,
URL;VALUE=URI:https://www.golfe-saint-tropez-information.com/en/animation/entertainment-recreation/la-croix-valmer/concert-conservatoire-symphonic-orchestra-7705129
DTSTAMP:20260422T220640Z
UID:69e9467061dbb
END:VEVENT
END:VCALENDAR