BEGIN:VCALENDAR
VERSION:2.0
PRODID:-//hacksw/handcal//NONSGML v1.0//EN
CALSCALE:GREGORIAN
BEGIN:VEVENT
LOCATION:All. du Quai de l’Epi\, 83990 Saint-Tropez
DESCRIPTION:https://www.golfe-saint-tropez-information.com/fr/animation/distractions-et-loisirs/saint-tropez/live-lounge-music-7704072
DTSTART:20260602T000000Z
DTEND:20260827T000000Z
SUMMARY:Live Lounge Music
URL;VALUE=URI:https://www.golfe-saint-tropez-information.com/fr/animation/distractions-et-loisirs/saint-tropez/live-lounge-music-7704072
DTSTAMP:20260425T160609Z
UID:69ece671afe8f
END:VEVENT
END:VCALENDAR