BEGIN:VCALENDAR
VERSION:2.0
PRODID:-//hacksw/handcal//NONSGML v1.0//EN
CALSCALE:GREGORIAN
BEGIN:VEVENT
LOCATION:plage du Canadel\, avenue du Docteur Ratynski\, Rayol-Canadel-sur-Mer
DESCRIPTION:https://www.golfe-saint-tropez-information.com/fr/animation/distractions-et-loisirs/rayol-canadel-sur-mer/sunset-musical-7703497
DTSTART:20260819T000000Z
DTEND:20260819T000000Z
SUMMARY:Sunset musical
URL;VALUE=URI:https://www.golfe-saint-tropez-information.com/fr/animation/distractions-et-loisirs/rayol-canadel-sur-mer/sunset-musical-7703497
DTSTAMP:20260423T014041Z
UID:69e978995defc
END:VEVENT
END:VCALENDAR