BEGIN:VCALENDAR
VERSION:2.0
PRODID:-//hacksw/handcal//NONSGML v1.0//EN
CALSCALE:GREGORIAN
BEGIN:VEVENT
LOCATION:plage du Canadel\, avenue du Docteur Ratynski\, Rayol-Canadel-sur-Mer
DESCRIPTION:https://www.golfe-saint-tropez-information.com/en/animation/entertainment-recreation/rayol-canadel-sur-mer/sunset-musical-7703451
DTSTART:20260529T000000Z
DTEND:20260529T000000Z
SUMMARY:Sunset musical
URL;VALUE=URI:https://www.golfe-saint-tropez-information.com/en/animation/entertainment-recreation/rayol-canadel-sur-mer/sunset-musical-7703451
DTSTAMP:20260422T190238Z
UID:69e91b4e26adf
END:VEVENT
END:VCALENDAR