BEGIN:VCALENDAR
VERSION:2.0
PRODID:-//hacksw/handcal//NONSGML v1.0//EN
CALSCALE:GREGORIAN
BEGIN:VEVENT
LOCATION:plage du Canadel\, avenue du Docteur Ratynski\, Rayol-Canadel-sur-Mer
DESCRIPTION:https://www.golfe-saint-tropez-information.com/en/animation/entertainment-recreation/rayol-canadel-sur-mer/sunset-musical-7703421
DTSTART:20260821T000000Z
DTEND:20260821T000000Z
SUMMARY:Sunset musical
URL;VALUE=URI:https://www.golfe-saint-tropez-information.com/en/animation/entertainment-recreation/rayol-canadel-sur-mer/sunset-musical-7703421
DTSTAMP:20260423T014420Z
UID:69e9797468149
END:VEVENT
END:VCALENDAR