BEGIN:VCALENDAR
VERSION:2.0
PRODID:-//hacksw/handcal//NONSGML v1.0//EN
CALSCALE:GREGORIAN
BEGIN:VEVENT
LOCATION:plage du Canadel\, avenue du Docteur Ratynski\, Rayol-Canadel-sur-Mer
DESCRIPTION:https://www.golfe-saint-tropez-information.com/en/animation/entertainment-recreation/rayol-canadel-sur-mer/sunset-musical-7703405
DTSTART:20260724T000000Z
DTEND:20260724T000000Z
SUMMARY:Sunset musical
URL;VALUE=URI:https://www.golfe-saint-tropez-information.com/en/animation/entertainment-recreation/rayol-canadel-sur-mer/sunset-musical-7703405
DTSTAMP:20260423T014955Z
UID:69e97ac353fc5
END:VEVENT
END:VCALENDAR