BEGIN:VCALENDAR
VERSION:2.0
PRODID:-//hacksw/handcal//NONSGML v1.0//EN
CALSCALE:GREGORIAN
BEGIN:VEVENT
LOCATION:plage du Canadel\, avenue du Docteur Ratynski\, Rayol-Canadel-sur-Mer
DESCRIPTION:https://www.golfe-saint-tropez-information.com/en/animation/entertainment-recreation/rayol-canadel-sur-mer/sunset-musical-7703357
DTSTART:20260720T000000Z
DTEND:20260720T000000Z
SUMMARY:Sunset musical
URL;VALUE=URI:https://www.golfe-saint-tropez-information.com/en/animation/entertainment-recreation/rayol-canadel-sur-mer/sunset-musical-7703357
DTSTAMP:20260425T233500Z
UID:69ed4fa4b7263
END:VEVENT
END:VCALENDAR