BEGIN:VCALENDAR
VERSION:2.0
PRODID:-//hacksw/handcal//NONSGML v1.0//EN
CALSCALE:GREGORIAN
BEGIN:VEVENT
LOCATION:Chemin des Bagatins\, 83310 Grimaud
DESCRIPTION:https://www.golfe-saint-tropez-information.com/en/animation/entertainment-recreation/grimaud/the-unexpected-ones-of-the-grimaldines-caribbean-evening-7697782
DTSTART:20261008T000000Z
DTEND:20261008T000000Z
SUMMARY:The Unexpected Ones of the Grimaldines - Caribbean Evening
URL;VALUE=URI:https://www.golfe-saint-tropez-information.com/en/animation/entertainment-recreation/grimaud/the-unexpected-ones-of-the-grimaldines-caribbean-evening-7697782
DTSTAMP:20260425T203812Z
UID:69ed26346257e
END:VEVENT
END:VCALENDAR