BEGIN:VCALENDAR
VERSION:2.0
PRODID:-//hacksw/handcal//NONSGML v1.0//EN
CALSCALE:GREGORIAN
BEGIN:VEVENT
LOCATION:Chapelle Notre-Dame de la Queste - Route départementale 558\, 83310 Grimaud
DESCRIPTION:https://www.golfe-saint-tropez-information.com/fr/animation/distractions-et-loisirs/grimaud/les-inattendues-des-grimaldines-soiree-gipsy-7697740
DTSTART:20260917T000000Z
DTEND:20260917T000000Z
SUMMARY:Les Inattendues des Grimaldines - Soirée Gipsy
URL;VALUE=URI:https://www.golfe-saint-tropez-information.com/fr/animation/distractions-et-loisirs/grimaud/les-inattendues-des-grimaldines-soiree-gipsy-7697740
DTSTAMP:20260423T041544Z
UID:69e99cf057304
END:VEVENT
END:VCALENDAR