BEGIN:VCALENDAR
VERSION:2.0
PRODID:-//hacksw/handcal//NONSGML v1.0//EN
CALSCALE:GREGORIAN
BEGIN:VEVENT
LOCATION:Chapelle Notre-Dame de la Queste - Route départementale 558\, 83310 Grimaud
DESCRIPTION:https://www.golfe-saint-tropez-information.com/en/animation/entertainment-recreation/grimaud/the-unexpected-ones-of-the-grimaldines-gypsy-evening-7697740
DTSTART:20260917T000000Z
DTEND:20260917T000000Z
SUMMARY:The Unexpected Ones of the Grimaldines - Gypsy Evening
URL;VALUE=URI:https://www.golfe-saint-tropez-information.com/en/animation/entertainment-recreation/grimaud/the-unexpected-ones-of-the-grimaldines-gypsy-evening-7697740
DTSTAMP:20260423T053733Z
UID:69e9b01d4525a
END:VEVENT
END:VCALENDAR