BEGIN:VCALENDAR
VERSION:2.0
PRODID:-//hacksw/handcal//NONSGML v1.0//EN
CALSCALE:GREGORIAN
BEGIN:VEVENT
LOCATION:Chemin Bagatin\, 83310 Grimaud
DESCRIPTION:https://www.golfe-saint-tropez-information.com/fr/animation/distractions-et-loisirs/grimaud/les-inattendues-des-grimaldines-soiree-jamaique-7697669
DTSTART:20260611T000000Z
DTEND:20260611T000000Z
SUMMARY:Les Inattendues des Grimaldines - Soirée Jamaïque
URL;VALUE=URI:https://www.golfe-saint-tropez-information.com/fr/animation/distractions-et-loisirs/grimaud/les-inattendues-des-grimaldines-soiree-jamaique-7697669
DTSTAMP:20260422T190239Z
UID:69e91b4ff18df
END:VEVENT
END:VCALENDAR