BEGIN:VCALENDAR
VERSION:2.0
PRODID:-//hacksw/handcal//NONSGML v1.0//EN
CALSCALE:GREGORIAN
BEGIN:VEVENT
LOCATION:Chemin Bagatin\, 83310 Grimaud
DESCRIPTION:https://www.golfe-saint-tropez-information.com/en/animation/entertainment-recreation/grimaud/the-unexpected-ones-of-the-grimaldines-jamaica-evening-7697669
DTSTART:20260611T000000Z
DTEND:20260611T000000Z
SUMMARY:The Unexpected Ones of the Grimaldines - Jamaica Evening
URL;VALUE=URI:https://www.golfe-saint-tropez-information.com/en/animation/entertainment-recreation/grimaud/the-unexpected-ones-of-the-grimaldines-jamaica-evening-7697669
DTSTAMP:20260422T202656Z
UID:69e92f109f416
END:VEVENT
END:VCALENDAR