BEGIN:VCALENDAR
VERSION:2.0
PRODID:-//hacksw/handcal//NONSGML v1.0//EN
CALSCALE:GREGORIAN
BEGIN:VEVENT
LOCATION:255 chemin de la Tour\, 83310 Grimaud
DESCRIPTION:https://www.golfe-saint-tropez-information.com/fr/animation/distractions-et-loisirs/grimaud/les-inattendues-des-grimaldines-soiree-usa-7697527
DTSTART:20260507T000000Z
DTEND:20260507T000000Z
SUMMARY:Les Inattendues des Grimaldines - Soirée USA
URL;VALUE=URI:https://www.golfe-saint-tropez-information.com/fr/animation/distractions-et-loisirs/grimaud/les-inattendues-des-grimaldines-soiree-usa-7697527
DTSTAMP:20260422T145804Z
UID:69e8e1fc0e3ac
END:VEVENT
END:VCALENDAR