BEGIN:VCALENDAR
VERSION:2.0
PRODID:-//hacksw/handcal//NONSGML v1.0//EN
CALSCALE:GREGORIAN
BEGIN:VEVENT
LOCATION:255 chemin de la Tour\, 83310 Grimaud
DESCRIPTION:https://www.golfe-saint-tropez-information.com/en/animation/entertainment-recreation/grimaud/the-unexpected-ones-of-the-grimaldines-usa-evening-7697527
DTSTART:20260507T000000Z
DTEND:20260507T000000Z
SUMMARY:The Unexpected Ones of the Grimaldines - USA Evening
URL;VALUE=URI:https://www.golfe-saint-tropez-information.com/en/animation/entertainment-recreation/grimaud/the-unexpected-ones-of-the-grimaldines-usa-evening-7697527
DTSTAMP:20260422T161851Z
UID:69e8f4eba95c0
END:VEVENT
END:VCALENDAR