BEGIN:VCALENDAR
VERSION:2.0
PRODID:-//hacksw/handcal//NONSGML v1.0//EN
CALSCALE:GREGORIAN
BEGIN:VEVENT
LOCATION:Le Château\, 46 rue Nationale\, 83310 Cogolin
DESCRIPTION:https://www.golfe-saint-tropez-information.com/en/animation/cultural/cogolin/passage-exhibition-by-joan-chabaud-7697441
DTSTART:20260401T000000Z
DTEND:20260506T000000Z
SUMMARY:Passage" exhibition by Joan Chabaud
URL;VALUE=URI:https://www.golfe-saint-tropez-information.com/en/animation/cultural/cogolin/passage-exhibition-by-joan-chabaud-7697441
DTSTAMP:20260425T173612Z
UID:69ecfb8ce8909
END:VEVENT
END:VCALENDAR