BEGIN:VCALENDAR
VERSION:2.0
PRODID:-//hacksw/handcal//NONSGML v1.0//EN
CALSCALE:GREGORIAN
BEGIN:VEVENT
LOCATION:7677 Route des Plages\, 83350 Ramatuelle
DESCRIPTION:https://www.golfe-saint-tropez-information.com/fr/animation/manifestations-commerciales/ramatuelle/balm-une-bouteille-a-la-mer-7696281
DTSTART:20260426T000000Z
DTEND:20260426T000000Z
SUMMARY:BALM - Une bouteille à la mer
URL;VALUE=URI:https://www.golfe-saint-tropez-information.com/fr/animation/manifestations-commerciales/ramatuelle/balm-une-bouteille-a-la-mer-7696281
DTSTAMP:20260422T132751Z
UID:69e8ccd730ae2
END:VEVENT
END:VCALENDAR