BEGIN:VCALENDAR
VERSION:2.0
PRODID:-//hacksw/handcal//NONSGML v1.0//EN
CALSCALE:GREGORIAN
BEGIN:VEVENT
LOCATION:7677 Route des Plages\, 83350 Ramatuelle
DESCRIPTION:https://www.golfe-saint-tropez-information.com/en/animation/commercial-event/ramatuelle/balm-a-bottle-in-the-sea-7696281
DTSTART:20260426T000000Z
DTEND:20260426T000000Z
SUMMARY:BALM - A bottle in the sea
URL;VALUE=URI:https://www.golfe-saint-tropez-information.com/en/animation/commercial-event/ramatuelle/balm-a-bottle-in-the-sea-7696281
DTSTAMP:20260422T150515Z
UID:69e8e3ab835e7
END:VEVENT
END:VCALENDAR