BEGIN:VCALENDAR
VERSION:2.0
PRODID:-//hacksw/handcal//NONSGML v1.0//EN
CALSCALE:GREGORIAN
BEGIN:VEVENT
LOCATION:Aire de Loisirs\, place Léon Martel\, 83580 Gassin
DESCRIPTION:https://www.golfe-saint-tropez-information.com/en/animation/entertainment-recreation/gassin/kid-s-gassinoise-recre-kid-s-2026-7696108
DTSTART:20260524T000000Z
DTEND:20260524T000000Z
SUMMARY:Kid's Gassinoise - Récré Kid's 2026
URL;VALUE=URI:https://www.golfe-saint-tropez-information.com/en/animation/entertainment-recreation/gassin/kid-s-gassinoise-recre-kid-s-2026-7696108
DTSTAMP:20260422T202651Z
UID:69e92f0be494d
END:VEVENT
END:VCALENDAR