BEGIN:VCALENDAR
VERSION:2.0
PRODID:-//hacksw/handcal//NONSGML v1.0//EN
CALSCALE:GREGORIAN
BEGIN:VEVENT
LOCATION:20\, place Léon Martel\, 83580 Gassin
DESCRIPTION:https://www.golfe-saint-tropez-information.com/fr/animation/distractions-et-loisirs/gassin/la-nuit-romantique-des-plus-beaux-villages-de-france-2026-7694613
DTSTART:20260627T000000Z
DTEND:20260627T000000Z
SUMMARY:La nuit romantique des plus beaux villages de France 2026
URL;VALUE=URI:https://www.golfe-saint-tropez-information.com/fr/animation/distractions-et-loisirs/gassin/la-nuit-romantique-des-plus-beaux-villages-de-france-2026-7694613
DTSTAMP:20260425T185359Z
UID:69ed0dc7ce64a
END:VEVENT
END:VCALENDAR